BEGIN:VCALENDAR
VERSION:2.0
PRODID:-//[HASAR PUB] - ECPv6.3.7//NONSGML v1.0//EN
CALSCALE:GREGORIAN
METHOD:PUBLISH
X-ORIGINAL-URL:http://www.hasarpub.com
X-WR-CALDESC:Veranstaltungen für [HASAR PUB]
REFRESH-INTERVAL;VALUE=DURATION:PT1H
X-Robots-Tag:noindex
X-PUBLISHED-TTL:PT1H
BEGIN:VTIMEZONE
TZID:Europe/Vienna
BEGIN:DAYLIGHT
TZOFFSETFROM:+0100
TZOFFSETTO:+0200
TZNAME:CEST
DTSTART:20250330T010000
END:DAYLIGHT
BEGIN:STANDARD
TZOFFSETFROM:+0200
TZOFFSETTO:+0100
TZNAME:CET
DTSTART:20251026T010000
END:STANDARD
END:VTIMEZONE
BEGIN:VEVENT
DTSTART;TZID=Europe/Vienna:20250303T180000
DTEND;TZID=Europe/Vienna:20250304T020000
DTSTAMP:20260422T142324
CREATED:20250223T200128Z
LAST-MODIFIED:20250316T190726Z
UID:3851-1741024800-1741053600@www.hasarpub.com
SUMMARY:[HASAR PUB] FaschnatClubbing 2025
DESCRIPTION:mit dem Wälder Echo\nFaschingsmontag\n03.03.2025 ab 18 Uhr\nim Landammannsaal in Großdorf \n \nMa treofft se zescht ufom Umzug von Faschnat-Trüllarn.\nLuogot a dr Egg zuo dena Muosmälknüllarn. \nNocha moass ma uf koan Fall scho wiedr Huo.\nMa goht no is Dorf\, döt ka ma buz varruckt tuo. \nWälderle trinko\, singo\, tonzo\, lacho\,\ndio gonz Nat mit dom Hasar Gaude macho. \nS’Wäldar Echo git Gas – Musig vollar Schwung.\nDo ist für all eoz drbi – Wibr & Ma – olt und jung. \nEor weossods eh – as ist ü hoffetlä allna klar\,\ndass be deom Fest koanar vo ü fehlo tar. \nClubbing am Faschnatmätag im Dorf – um 6ä foht as ah.\nVrgeossods nüd und denkod dra!
URL:http://www.hasarpub.com/event/hasar-pub-faschnatclubbing-2025
LOCATION:Landammannsaal Großdorf\, Egg-Großdorf\, Vorarlberg\, 6863\, Österreich
ORGANIZER;CN="[HASAR PUB] & W%C3%A4lder Echo":MAILTO:hasarpub@hotmail.com
END:VEVENT
END:VCALENDAR