BEGIN:VCALENDAR
VERSION:2.0
PRODID:-//[HASAR PUB] - ECPv6.3.7//NONSGML v1.0//EN
CALSCALE:GREGORIAN
METHOD:PUBLISH
X-ORIGINAL-URL:http://www.hasarpub.com
X-WR-CALDESC:Veranstaltungen für [HASAR PUB]
REFRESH-INTERVAL;VALUE=DURATION:PT1H
X-Robots-Tag:noindex
X-PUBLISHED-TTL:PT1H
BEGIN:VTIMEZONE
TZID:Europe/Vienna
BEGIN:DAYLIGHT
TZOFFSETFROM:+0100
TZOFFSETTO:+0200
TZNAME:CEST
DTSTART:20240331T010000
END:DAYLIGHT
BEGIN:STANDARD
TZOFFSETFROM:+0200
TZOFFSETTO:+0100
TZNAME:CET
DTSTART:20241027T010000
END:STANDARD
END:VTIMEZONE
BEGIN:VEVENT
DTSTART;TZID=Europe/Vienna:20240331T160000
DTEND;TZID=Europe/Vienna:20240401T020000
DTSTAMP:20260420T141958
CREATED:20240315T154918Z
LAST-MODIFIED:20240328T144453Z
UID:3845-1711900800-1711936800@www.hasarpub.com
SUMMARY:[HASAR PUB] OsterBock 2024
DESCRIPTION:Zählt ihr schon die Tage? 🤗 Lange geht’s nicht mehr bis zum [HASAR PUB] Osterbock 🐰🐐🍻 Von Anfang an und auch heuer wieder mit dabei das DJ Duo LeiSi & LohSi sowie DJ Gex 🎚🎶🤘 darauf ist einfach Verlass. Im großen Festzelt setzten wir heuer auf die heimischen Stimmungsmacher aus dem Hinterwald – diiiiiiiiiiie Quärgänger  🎸🎷🥳 Uhlala! Wie wir uns schon freuen! Ostern kann kommen 💪🕺 \nNoch ein paar organisatorische Infos ℹ️ \n\n>> KARTENVORVERKAUF \n\n\nder diesjährige OsterBock ist leider bereits ausverkauft\nEintritt ab 18 Jahren 1️⃣8️⃣\n\n>> ANREISE \n\nbitte Öffis nutzen 🚌🚕\nParkmöglichkeiten sehr begrenzt\nab 17 Uhr fahren zusätzlich zum Linienverkehr Verstärkerbusse\n\n>> EINTRITT \n\nab 18 Jahren 1️⃣8️⃣\nLichtbildausweis (Pass/Führerschein/Personalausweis) für Eintrittskontrolle nötig 🪪\n\n>> NACH HAUSE KOMMEN\n \n\nBusheimbringer um 24\, um 1 und 2 Uhr\n[L1] Großdorf – Egg – Müselbach – Alberschwende\n[L2] Großdorf – Andelsbuch – Bezau – Bizau\n[L3] Großdorf – Schwarzenberg – Mellau – Schoppernau Diedamskopf [⚠️ACHTUNG⚠️ Fährt nur um 24 Uhr und um 2 Uhr]\n[L4] Großdorf – Langenegg – Krumbach – Riefensberg\n[L5] Großdorf – Lingenau – Hittisau – Doren
URL:http://www.hasarpub.com/event/hasar-pub-osterbock-2024
LOCATION:Landammannsaal Großdorf\, Egg-Großdorf\, Vorarlberg\, 6863\, Österreich
ATTACH;FMTTYPE=image/jpeg:http://www.hasarpub.com/wp-content/uploads/2024/03/ob2024_egg_news.jpg
ORGANIZER;CN="[HASAR PUB]":MAILTO:hasarpub@hotmail.com
END:VEVENT
END:VCALENDAR