BEGIN:VCALENDAR
VERSION:2.0
PRODID:-//[HASAR PUB] - ECPv6.3.7//NONSGML v1.0//EN
CALSCALE:GREGORIAN
METHOD:PUBLISH
X-WR-CALNAME:[HASAR PUB]
X-ORIGINAL-URL:http://www.hasarpub.com
X-WR-CALDESC:Veranstaltungen für [HASAR PUB]
REFRESH-INTERVAL;VALUE=DURATION:PT1H
X-Robots-Tag:noindex
X-PUBLISHED-TTL:PT1H
BEGIN:VTIMEZONE
TZID:Europe/Vienna
BEGIN:DAYLIGHT
TZOFFSETFROM:+0100
TZOFFSETTO:+0200
TZNAME:CEST
DTSTART:20250330T010000
END:DAYLIGHT
BEGIN:STANDARD
TZOFFSETFROM:+0200
TZOFFSETTO:+0100
TZNAME:CET
DTSTART:20251026T010000
END:STANDARD
END:VTIMEZONE
BEGIN:VEVENT
DTSTART;TZID=Europe/Vienna:20250420T160000
DTEND;TZID=Europe/Vienna:20250421T020000
DTSTAMP:20260422T210858
CREATED:20250316T190338Z
LAST-MODIFIED:20250413T191833Z
UID:3858-1745164800-1745200800@www.hasarpub.com
SUMMARY:[HASAR PUB] OsterBock 2025
DESCRIPTION:Es ist wieder soweit! 🤗 Macht euch bereit für eine legendäre Nacht voller Musik\, Spaß und guter Laune\, denn der [HASAR PUB] OsterBock steht vor der Tür! 🐰🐐🍻💃 \n💥 Musik\, Stimmung & Party pur:\n> Gex und LeiSi & LohSi – Unsere Lieblings-DJs lassen wieder die Bässe krachen! 🎚🎶🤘\n> Mary and the Punk Apostles – Ab 16:30 Uhr live on stage – Wer früher da ist – feiert länger!\n> Die Quärgänger – Live\, laut und mit voller Power im Festzelt! 🎸🎷🥳 \nWann? Ostersonntag\, 20. April 2025\, ab 16 Uhr 📅 Wo? Landammannsaal\, Großdorf 📍 \nEs wird mega! Wir freu’n uns drauf. 🤩🥳 \nEin paar organisatorische Infos  \n\n>> KARTENVORVERKAUF \n\n\nKarten für den [HASAR PUB] OsterBock sind NUR online erhältlich\nunter ticket.hasarpub.com\n\n5 Karten/Person 🎟️🎟️🎟️🎟️🎟️\nKarten nur im Vorverkauf erhältlich\nEintritt ab 18 Jahren \n\n>> ANREISE \n\nbitte Öffis nutzen \nParkmöglichkeiten sehr begrenzt\nab 17 Uhr fahren zusätzlich zum Linienverkehr Verstärkerbusse\n\n>> EINTRITT \n\nab 18 Jahren \nLichtbildausweis (Pass/Führerschein/Personalausweis) für Eintrittskontrolle nötig \n\n>> NACH HAUSE KOMMEN\n \n\nBusheimbringer um 24\, um 1 und 2 Uhr\n[L1] Großdorf – Egg – Müselbach – Alberschwende\n[L2] Großdorf – Andelsbuch – Bezau – Bizau\n[L3] Großdorf – Schwarzenberg – Mellau – Schoppernau Diedamskopf [ACHTUNG Fährt nur um 24 Uhr und um 2 Uhr]\n[L4] Großdorf – Langenegg – Krumbach – Riefensberg\n[L5] Großdorf – Lingenau – Hittisau – Doren
URL:http://www.hasarpub.com/event/hasar-pub-osterbock-2025
LOCATION:Landammannsaal Großdorf\, Egg-Großdorf\, Vorarlberg\, 6863\, Österreich
ATTACH;FMTTYPE=image/jpeg:http://www.hasarpub.com/wp-content/uploads/2025/03/ob2025_homepage-scaled.jpg
ORGANIZER;CN="[HASAR PUB]":MAILTO:hasarpub@hotmail.com
END:VEVENT
END:VCALENDAR