BEGIN:VCALENDAR
VERSION:2.0
PRODID:-//[HASAR PUB] - ECPv6.3.7//NONSGML v1.0//EN
CALSCALE:GREGORIAN
METHOD:PUBLISH
X-ORIGINAL-URL:http://www.hasarpub.com
X-WR-CALDESC:Veranstaltungen für [HASAR PUB]
REFRESH-INTERVAL;VALUE=DURATION:PT1H
X-Robots-Tag:noindex
X-PUBLISHED-TTL:PT1H
BEGIN:VTIMEZONE
TZID:Europe/Vienna
BEGIN:DAYLIGHT
TZOFFSETFROM:+0100
TZOFFSETTO:+0200
TZNAME:CEST
DTSTART:20230326T010000
END:DAYLIGHT
BEGIN:STANDARD
TZOFFSETFROM:+0200
TZOFFSETTO:+0100
TZNAME:CET
DTSTART:20231029T010000
END:STANDARD
END:VTIMEZONE
BEGIN:VEVENT
DTSTART;TZID=Europe/Vienna:20230409T160000
DTEND;TZID=Europe/Vienna:20230410T020000
DTSTAMP:20260422T155044
CREATED:20230323T221630Z
LAST-MODIFIED:20240315T155820Z
UID:3838-1681056000-1681092000@www.hasarpub.com
SUMMARY:[HASAR PUB] OsterBock 2023
DESCRIPTION:Seid ihr bereit?  Bereit für den nächsten [HASAR PUB] OsterBock?  Heuer mit dabei: das legendäre DJ Duo LeiSi & LohSi und die Power-Party-Band Bääm&Brass  Das wird spitze!  \nNoch ein paar organisatorische Infos ℹ️\n \n\n\n\n\n\n\n \n>> Kartenvorverkauf\n\nMontag\, 27.03.2023 ab 8 Uhr 🎬\nbei allen Sparkassen und Raiffeisen-Banken in Vorarlberg\nmax. 5 Karten/Person 🎟️🎟️🎟️🎟️🎟️\nKarten nur im Vorverkauf erhältlich\nErmäßigung für Spark7-Members\n\n>> Anreise \n\nbitte Öffis nutzen 🚌🚕\nParkmöglichkeiten sehr begrenzt\nab 16 Uhr fahren zusätzlich zum Linienverkehr Verstärkerbusse\n\n>> Eintritt \n\nab 18 Jahren 1️⃣8️⃣\nLichtbildausweis (Pass/Führerschein/Personalausweis) für Eintrittskontrolle nötig 🪪\n\n>> nach Hause kommen\n \n\nBusheimbringer um 24\, um 1 und 2 Uhr\n[L1] Großdorf – Egg – Müselbach – Alberschwende\n[L2] Großdorf – Andelsbuch – Bezau – Bizau\n[L3] Großdorf – Schwarzenberg – Mellau – Schoppernau Diedamskopf [⚠️ACHTUNG⚠️ Fährt nur um 24 Uhr und um 2 Uhr]\n[L4] Großdorf – Langenegg – Krumbach – Riefensberg\n[L5] Großdorf – Lingenau – Hittisau – Doren
URL:http://www.hasarpub.com/event/hasar-pub-osterbock-2023
LOCATION:Landammannsaal Großdorf
ATTACH;FMTTYPE=image/jpeg:http://www.hasarpub.com/wp-content/uploads/2023/03/osterbock2023.jpg
ORGANIZER;CN="[HASAR PUB]":MAILTO:hasarpub@hotmail.com
END:VEVENT
END:VCALENDAR