BEGIN:VCALENDAR
VERSION:2.0
PRODID:-//[HASAR PUB] - ECPv6.3.7//NONSGML v1.0//EN
CALSCALE:GREGORIAN
METHOD:PUBLISH
X-WR-CALNAME:[HASAR PUB]
X-ORIGINAL-URL:http://www.hasarpub.com
X-WR-CALDESC:Veranstaltungen für [HASAR PUB]
REFRESH-INTERVAL;VALUE=DURATION:PT1H
X-Robots-Tag:noindex
X-PUBLISHED-TTL:PT1H
BEGIN:VTIMEZONE
TZID:Europe/Vienna
BEGIN:DAYLIGHT
TZOFFSETFROM:+0100
TZOFFSETTO:+0200
TZNAME:CEST
DTSTART:20220327T010000
END:DAYLIGHT
BEGIN:STANDARD
TZOFFSETFROM:+0200
TZOFFSETTO:+0100
TZNAME:CET
DTSTART:20221030T010000
END:STANDARD
END:VTIMEZONE
BEGIN:VEVENT
DTSTART;TZID=Europe/Vienna:20220417T160000
DTEND;TZID=Europe/Vienna:20220418T020000
DTSTAMP:20260423T085037
CREATED:20220405T080224Z
LAST-MODIFIED:20220415T130531Z
UID:3829-1650211200-1650247200@www.hasarpub.com
SUMMARY:[HASAR PUB] OsterBock 2022
DESCRIPTION:Was darf heuer zu Ostern auf gar keinen Fall fehlen? 🐇🥚🐣🤔 Geeeeenau ☝️der [HASAR PUB] OsterBock 🐐🍻🎊 Wir haben alle nötigen Zusagen erhalten und sind schon mitten in den Vorbereitungen 💪 Am Ostersonntag ist es endlich wieder soweit: kühles Bockbier von der Brauerei Egg 🍺 und super Sound vom DJ Duo LeiSi & LohSi 🎚️🎶🔊 und der Schlagerbilly-Band Rebel Tell 🎸🎤🕺 Besser geht’s nicht! 👌😃 Oh! Wie wir uns freun! 🙌😁 Ihr hoffentlich auch! 😏\n \nEin paar organisatorische Infos: ☝ Da die Parkmöglichkeiten 🅿 in Großdorf wirklich begrenzt sind\, bitte nutzt die Öffis oder lasst euch chauffieren 🚍🚕😉 Übrigens: Am besten ihr reist am Sonntag mit den Öffis zum OsterBock an. Zusätzlich zum normalen Linienverkehr fahren ab 16 Uhr Verstärkerbusse zum Fest! Einfacher und bequemer geht’s nicht! Für ein sicheres nach Hause kommen sorgen unsere Busheimbringer um 24\, um 1 und 2 Uhr 🚌 \n▪️ Großdorf – Langenegg – Krumbach – Riefensberg\n▪️ Großdorf – Hittisau – Krumbach – Doren\n▪️ Großdorf – Egg – Alberschwende\n▪️ Großdorf – Andelebuch – Bezau – Bizau\n▪️ Großdorf – Schwarzenberg – Reuthe – Mellau – Hirschau – Schnepfau – Au  (Schoppernau) \nDer Kartenvorverkauf startet am Mittwoch\, 06.04.2022 ab 8 Uhr 🕗 Tickets gibts bei allen Sparkassen und Raiffeisen-Banken in Vorarlberg. Pro Person werden maximal 5 Karten 🎫🎫🎫🎫🎫 ausgegeben\, die Karten sind limitiert und nur im Vorverkauf erhältlich☝ Für alle Spark7-Members gibt’s Ermäßigung 😏 \nEintritt ab 18 Jahren 1️⃣8️⃣ mit gütligem 3G-Nachweis 🔎 Bitte nicht vergessen ⚠ Bringt ALLE euren Lichtbildausweis (Pass/Führerschein/Personalausweis) für die Eintrittskontrolle mit 🔎 – Eintritt ist nämlich ausnahmslos nur ab 18 – ohne Diskussion und es werden bei ALLEN die Lichtbildausweise am Eingang kontrolliert! Dasselbe gilt für den gültigen 3G-Nachweis. Damit ihr euch schon mal drauf einstellen könnt 😉 \n  \n>>> P L A N Ä N D E R U N G <<<\n1. kommt es anders und 2. als man denkt 🙄 Ewig schade\, aber leider wahr – der OsterBock2022 muss ohne die Schlagerbilly-Band Rebel Tell stattfinden 😕 – danke C*** 🤬 Wir hätten so gern mit euch gefeiert 🎸🎙️🕺 – jetzt gibt’s stattdessen die allerbesten Genesungswünsche 🍀 Jungs\, wir hoffen\, ihr seid bald wieder am Start!🤘 \nAber ‚was ist a Bar ohne Musig‘? ‚Nix Gscheids – Genau!‘ 🤦‍♂️\n Darum haben wir alle Hebel in Bewegung gesetzt und keine Kosten und Mühen gescheut! Und somit gibt’s heuer ein musikalisches Revival auf dem OsterBock und zwar mit den Fäaschtbänklern! 🥳 Wir freun uns riesig und können’s kaum erwarten 😜
URL:http://www.hasarpub.com/event/hasar-pub-osterbock-2022
LOCATION:Landammannsaal Großdorf
ATTACH;FMTTYPE=image/jpeg:http://www.hasarpub.com/wp-content/uploads/2022/04/hasarpub_homepage.jpg
ORGANIZER;CN="[Hasar Pub]":MAILTO:hasarpub@hotmail.com
END:VEVENT
END:VCALENDAR